BEGIN:VCALENDAR
VERSION:2.0
PRODID:-//inovia.sk - ECPv6.15.20//NONSGML v1.0//EN
CALSCALE:GREGORIAN
METHOD:PUBLISH
X-ORIGINAL-URL:https://stara.inovia.sk
X-WR-CALDESC:Udalosti pre inovia.sk
REFRESH-INTERVAL;VALUE=DURATION:PT1H
X-Robots-Tag:noindex
X-PUBLISHED-TTL:PT1H
BEGIN:VTIMEZONE
TZID:Europe/Bratislava
BEGIN:DAYLIGHT
TZOFFSETFROM:+0100
TZOFFSETTO:+0200
TZNAME:CEST
DTSTART:20240331T010000
END:DAYLIGHT
BEGIN:STANDARD
TZOFFSETFROM:+0200
TZOFFSETTO:+0100
TZNAME:CET
DTSTART:20241027T010000
END:STANDARD
BEGIN:DAYLIGHT
TZOFFSETFROM:+0100
TZOFFSETTO:+0200
TZNAME:CEST
DTSTART:20250330T010000
END:DAYLIGHT
BEGIN:STANDARD
TZOFFSETFROM:+0200
TZOFFSETTO:+0100
TZNAME:CET
DTSTART:20251026T010000
END:STANDARD
BEGIN:DAYLIGHT
TZOFFSETFROM:+0100
TZOFFSETTO:+0200
TZNAME:CEST
DTSTART:20260329T010000
END:DAYLIGHT
BEGIN:STANDARD
TZOFFSETFROM:+0200
TZOFFSETTO:+0100
TZNAME:CET
DTSTART:20261025T010000
END:STANDARD
END:VTIMEZONE
BEGIN:VEVENT
DTSTART;TZID=Europe/Bratislava:20251112T090000
DTEND;TZID=Europe/Bratislava:20251112T173000
DTSTAMP:20260426T045412
CREATED:20251029T095616Z
LAST-MODIFIED:20251029T100752Z
UID:13973-1762938000-1762968600@stara.inovia.sk
SUMMARY:Veľké stretnutie malých firiem
DESCRIPTION:Sme partnerom podujatia\, ktoré môže posunúť vaše podnikanie o rok dopredu!\nNenechajte si ujsť Veľké stretnutie malých firiem a využite našu partnerskú zľavu na kúpu vstupenky! \n Už 12. novembra v Design Factory\, Jarovce pri Bratislave. \nStovky podnikateľov\, desiatky expertov a množstvo inšpirácie na jednom mieste. \nČo zažijete: \n= Hlavný stage a diskusie na rovinu a bez tabu. Spíkri sa s vami podelia o svoje osobné príbehy – ako premýšľali v kľúčových chvíľach\, čoho sa obávali a čo im nakoniec prinieslo úspech. Prezradia vám\, ako to zvládli\, aby ste to zvládli aj vy.\n= Témy\, ktoré reálne riešite vo svojom podnikaní – využitie AI\, budovanie značky\, HR aj sales\n = Praktické workshopy plné tipov a skúseností\n = Networking v chillout zóne\n = Expo zóna s riešeniami od partnerov pre vaše podnikanie \nPridajte sa a načerpajte inšpiráciu pre svoj ďalší biznis (k)rok!  \nNa koho sa môžete tešiť: \n= Manželia Basilovci\, zakladatelia Sensoneo vám priblížia ako vybudovali svetovú slovenskú firmu\, ktorá zbiera ocenenia doma aj v zahraničí. \n= Iveta Hrabovská\, sa podelí o svoje úspechy aj pády pri budovaní prémiovej značky Gentlejam\, ktorú z malej lokálnej výroby vybudovala na silnú značku s príbehom a ktorá si už získala srdcia zákazníkov po celom Slovensku. \n= Ako čo najefektívnejšie využívať nástroje AI vo svojom podnikaní sa dozviete od experta Patrika Rumana\, spoluzakladateľa Techband.io. \n= Zakladateľka Domčinej Laskonky\, Dominika Onofrejová\, prinesie silný a inšpiratívny príbeh o ceste z korporátu do vlastného biznisu. Premenila domáce pečenie na rastúcu značku s jedinečnými produktmi. Vybudovala priestor\, kde sa spája poctivá remeselná cukrárska výroba s komunitným životom.\n\nA ešte oveľa viac!  \nProgram eventu & spíkri\n Vstupenky & registrácia – nezabudnite využiť zľavu\, zadajte kód PARTNER pri kúpe vstupenky!
URL:https://stara.inovia.sk/event/velke-stretnutie-malych-firiem/
LOCATION:Design Factory\, Námestie pri sýpke 6\, Jarovce\, Slovenská republika\, 851 10
ATTACH;FMTTYPE=image/png:https://stara.inovia.sk/wp-content/uploads/2025/10/VSMF_banner_square_1-e1761732297433.png
END:VEVENT
END:VCALENDAR