BEGIN:VCALENDAR
VERSION:2.0
PRODID:-//inovia.sk - ECPv6.15.20//NONSGML v1.0//EN
CALSCALE:GREGORIAN
METHOD:PUBLISH
X-ORIGINAL-URL:https://stara.inovia.sk
X-WR-CALDESC:Udalosti pre inovia.sk
REFRESH-INTERVAL;VALUE=DURATION:PT1H
X-Robots-Tag:noindex
X-PUBLISHED-TTL:PT1H
BEGIN:VTIMEZONE
TZID:Europe/Bratislava
BEGIN:DAYLIGHT
TZOFFSETFROM:+0100
TZOFFSETTO:+0200
TZNAME:CEST
DTSTART:20250330T010000
END:DAYLIGHT
BEGIN:STANDARD
TZOFFSETFROM:+0200
TZOFFSETTO:+0100
TZNAME:CET
DTSTART:20251026T010000
END:STANDARD
BEGIN:DAYLIGHT
TZOFFSETFROM:+0100
TZOFFSETTO:+0200
TZNAME:CEST
DTSTART:20260329T010000
END:DAYLIGHT
BEGIN:STANDARD
TZOFFSETFROM:+0200
TZOFFSETTO:+0100
TZNAME:CET
DTSTART:20261025T010000
END:STANDARD
BEGIN:DAYLIGHT
TZOFFSETFROM:+0100
TZOFFSETTO:+0200
TZNAME:CEST
DTSTART:20270328T010000
END:DAYLIGHT
BEGIN:STANDARD
TZOFFSETFROM:+0200
TZOFFSETTO:+0100
TZNAME:CET
DTSTART:20271031T010000
END:STANDARD
END:VTIMEZONE
BEGIN:VEVENT
DTSTART;TZID=Europe/Bratislava:20260219T160000
DTEND;TZID=Europe/Bratislava:20260219T200000
DTSTAMP:20260426T012729
CREATED:20260213T125647Z
LAST-MODIFIED:20260213T125647Z
UID:14736-1771516800-1771531200@stara.inovia.sk
SUMMARY:HealthTech Café Diskusia
DESCRIPTION:Budeme pri podujatí\, ktoré spája ľudí\, nápady a budúcnosť zdravotníctva v jednom priestore. Príďte na prvé neformálne stretnutie pri káve Health Tech Café a zapojte sa do diskusie\, ktorá môže odštartovať nové spolupráce aj konkrétne riešenia. \nUž 19. februára 2026 o 16:00 v [x] cancel coworking\, Divadelná 23\, Martin. \nČaká vás príjemná atmosféra\, otvorená debata a komunita ľudí\, ktorým záleží na tom\, aby zdravotníctvo fungovalo lepšie – v praxi\, nie iba na papieri. \nČo zažijete\nDiskusiu na tému\, ktorá ide priamo k veci: „Môžeme patriť medzi svetových lídrov v zdravotníckych inováciách?“. Formát je nastavený tak\, aby to nebolo len o počúvaní – bude priestor aj na vaše otázky\, pohľady z praxe\, nápady a krátky networking. Podujatie je otvorené pre profesionálov\, študentov\, inovátorov aj všetkých\, ktorí majú chuť riešiť budúcnosť zdravotníctva. \nNa koho sa môžete tešiť\nDiskusiu budú viesť dve hostky\, ktoré prinášajú pohľad z inovačného aj strategického prostredia: \nMartina Antošová – líderka pre zdravotnícke inovácie (INOVIA)Petra Zappe – koordinátorka výskumných politík v oblasti zdravia (VAIA) \nPraktické informácie\nDátum: 19. 2. 2026Čas: 16:00Miesto: [x] cancel coworking\, Divadelná 23\, Martin \nÚčasť je bezplatná\, no kapacita je obmedzená\, preto odporúčame prísť včas. \nTešíme sa na vás pri káve a v debate\, ktorá môže posunúť zdravotnícke inovácie o krok ďalej.
URL:https://stara.inovia.sk/event/healthtech-cafe-diskusia/
LOCATION:[x] cancel coworking\, Divadelná 23\, Martin\, Slovakia (Slovak Republic)
ATTACH;FMTTYPE=image/jpeg:https://stara.inovia.sk/wp-content/uploads/2026/02/INOVIA_HealthTech_Cafe_LinkedIn.jpg
ORGANIZER;CN="Inova%C4%8Dn%C3%A9 centrum INOVIA":MAILTO:info@inovia.sk
END:VEVENT
END:VCALENDAR