BEGIN:VCALENDAR
VERSION:2.0
PRODID:-//inovia.sk - ECPv6.15.20//NONSGML v1.0//EN
CALSCALE:GREGORIAN
METHOD:PUBLISH
X-WR-CALNAME:inovia.sk
X-ORIGINAL-URL:https://stara.inovia.sk
X-WR-CALDESC:Udalosti pre inovia.sk
REFRESH-INTERVAL;VALUE=DURATION:PT1H
X-Robots-Tag:noindex
X-PUBLISHED-TTL:PT1H
BEGIN:VTIMEZONE
TZID:Europe/Bratislava
BEGIN:DAYLIGHT
TZOFFSETFROM:+0100
TZOFFSETTO:+0200
TZNAME:CEST
DTSTART:20250330T010000
END:DAYLIGHT
BEGIN:STANDARD
TZOFFSETFROM:+0200
TZOFFSETTO:+0100
TZNAME:CET
DTSTART:20251026T010000
END:STANDARD
BEGIN:DAYLIGHT
TZOFFSETFROM:+0100
TZOFFSETTO:+0200
TZNAME:CEST
DTSTART:20260329T010000
END:DAYLIGHT
BEGIN:STANDARD
TZOFFSETFROM:+0200
TZOFFSETTO:+0100
TZNAME:CET
DTSTART:20261025T010000
END:STANDARD
BEGIN:DAYLIGHT
TZOFFSETFROM:+0100
TZOFFSETTO:+0200
TZNAME:CEST
DTSTART:20270328T010000
END:DAYLIGHT
BEGIN:STANDARD
TZOFFSETFROM:+0200
TZOFFSETTO:+0100
TZNAME:CET
DTSTART:20271031T010000
END:STANDARD
END:VTIMEZONE
BEGIN:VEVENT
DTSTART;VALUE=DATE:20260319
DTEND;VALUE=DATE:20260320
DTSTAMP:20260426T000903
CREATED:20260304T152105Z
LAST-MODIFIED:20260304T152105Z
UID:15115-1773878400-1773964799@stara.inovia.sk
SUMMARY:Oravské ekonomické fórum 2026
DESCRIPTION:🌍 Oravské ekonomické fórum | 19. marec 2026 | Dolný Kubín (Hotel Park) \nSpolu s Oravským biznis klubom vás pozývame na podujatie\, ktoré prepája región\, firmy a verejný sektor do jedného dňa plného praktických tém\, diskusií a nových kontaktov. \nČakajú vás workshopy\, prednášky\, panelová diskusia\, B2B × B2G zóna a na záver aj dynamický networking 🤝 \nTémy\, ktoré aktuálne hýbu biznisom (a budú hýbať aj v 2026):\n✅ ekonomický potenciál regiónu a podnikateľské prostredie\n✅ turizmus zajtrajška (MICE\, úloha samospráv\, rozvoj regiónov)\n✅ Business Intelligence a dáta v riadení firiem (príklady z praxe) 💻\n✅ špeciálne ekonomické zóny a cezhraničná spolupráca SK–PL 🇸🇰🤝🇵🇱\n✅ recruiting v roku 2026 (HR realita bez prikrášlenia)\n✅ podnikanie v Poľsku – praktický sprievodca 🇵🇱\n✅ marketing s pomocou AI (aj keď nemáte tím) 🧠 \n📍 Kde: Hotel Park\, Dolný Kubín\n🗓️ Kedy: 19. 3. 2026\n🎟️ Vstupenky: v predaji tu: https://lnkd.in/e4Cjtc2H \n👉 Ak podnikáte\, riešite rozvoj regiónu\, export\, turizmus alebo chcete nové B2B/B2G kontakty — toto je deň\, ktorý sa oplatí mať v kalendári. \nProjekt je spolufinancovaný EUrópskou úniou v Programe Slovensko \nViac o nadchádzajúcich podujatiach sa dozviete TU.
URL:https://stara.inovia.sk/event/oravske-ekonomicke-forum-2026/
LOCATION:Hotel park\, Dolný Kubín\, Radlinského 21\, Dolný Kubín\, Orava\, 026 01\, Slovakia (Slovak Republic)
ATTACH;FMTTYPE=image/jpeg:https://stara.inovia.sk/wp-content/uploads/2026/03/Oravske-forum.jpg
ORGANIZER;CN="Inova%C4%8Dn%C3%A9 centrum INOVIA":MAILTO:info@inovia.sk
END:VEVENT
BEGIN:VEVENT
DTSTART;TZID=Europe/Bratislava:20260319T150000
DTEND;TZID=Europe/Bratislava:20260319T190000
DTSTAMP:20260426T000903
CREATED:20260219T131225Z
LAST-MODIFIED:20260219T131328Z
UID:14773-1773932400-1773946800@stara.inovia.sk
SUMMARY:Startup Lab: Budovanie a škálovanie tech firmy na príklade AgeVolt
DESCRIPTION:Startup Lab: Budovanie a škálovanie tech firmy na príklade AgeVolt\nPraktický workshop pre startupy a tech tímy\, ktoré chcú rásť rýchlejšie a robiť lepšie rozhodnutia. Na konkrétnom príbehu AgeVolt si ukážeme\, ako firma „hackla“ financovanie a získala 1\,3 mil. € – vrátane toho\, čo fungovalo a aké chyby stáli čas aj peniaze. \nZ workshopu si odnesiete praktické výstupy k témam financovanie a výber trhu\, customer discovery a product–market fit a zároveň si nastavíte vlastnú roadmapu\, ktorá posunie váš startup vpred. \nWorkshop spoluorganizujeme s Hopero a Civitta. Lektorom je Ján Žuštia k (Founder & CEO AgeVolt). \nDátum: 19. 3. 2026Čas: 15:00 – 19:00Miesto: Žilina \nRegistrácia: https://up2rgu6i5pl.typeform.com/to/a9zll371 
URL:https://stara.inovia.sk/event/workshop/
LOCATION:Žilina
ATTACH;FMTTYPE=image/jpeg:https://stara.inovia.sk/wp-content/uploads/2026/02/FINAL_INOVIA_Civitta_Hopero_LI_FB_post.jpg
ORGANIZER;CN="Inova%C4%8Dn%C3%A9 centrum INOVIA":MAILTO:info@inovia.sk
END:VEVENT
END:VCALENDAR