BEGIN:VCALENDAR
VERSION:2.0
PRODID:-//inovia.sk - ECPv6.15.20//NONSGML v1.0//EN
CALSCALE:GREGORIAN
METHOD:PUBLISH
X-WR-CALNAME:inovia.sk
X-ORIGINAL-URL:https://stara.inovia.sk
X-WR-CALDESC:Udalosti pre inovia.sk
REFRESH-INTERVAL;VALUE=DURATION:PT1H
X-Robots-Tag:noindex
X-PUBLISHED-TTL:PT1H
BEGIN:VTIMEZONE
TZID:Europe/Bratislava
BEGIN:DAYLIGHT
TZOFFSETFROM:+0100
TZOFFSETTO:+0200
TZNAME:CEST
DTSTART:20250330T010000
END:DAYLIGHT
BEGIN:STANDARD
TZOFFSETFROM:+0200
TZOFFSETTO:+0100
TZNAME:CET
DTSTART:20251026T010000
END:STANDARD
BEGIN:DAYLIGHT
TZOFFSETFROM:+0100
TZOFFSETTO:+0200
TZNAME:CEST
DTSTART:20260329T010000
END:DAYLIGHT
BEGIN:STANDARD
TZOFFSETFROM:+0200
TZOFFSETTO:+0100
TZNAME:CET
DTSTART:20261025T010000
END:STANDARD
BEGIN:DAYLIGHT
TZOFFSETFROM:+0100
TZOFFSETTO:+0200
TZNAME:CEST
DTSTART:20270328T010000
END:DAYLIGHT
BEGIN:STANDARD
TZOFFSETFROM:+0200
TZOFFSETTO:+0100
TZNAME:CET
DTSTART:20271031T010000
END:STANDARD
END:VTIMEZONE
BEGIN:VEVENT
DTSTART;TZID=Europe/Bratislava:20260317T153000
DTEND;TZID=Europe/Bratislava:20260317T173000
DTSTAMP:20260426T001040
CREATED:20260304T150807Z
LAST-MODIFIED:20260304T150807Z
UID:15107-1773761400-1773768600@stara.inovia.sk
SUMMARY:Pitch Deck\, ktorý presvedčí – webinár
DESCRIPTION:Máte inovatívny projekt vhodný do súťaže Inovácia Žilinského kraja\, no nie ste si istí\, ako správne poskladať alebo doladiť svoj súťažný pitch deck? Na tomto webinári si prejdeme\, ako pripraviť prezentáciu tak\, aby bola jasná\, stručná a presvedčivá – presne podľa toho\, čo porota potrebuje vidieť. \nPod vedením Michala Porubäna získate praktický návod\, čo má byť na jednotlivých slajdoch\, ako vystavať príbeh projektu a na čo si dať pozor\, aby váš pitch pôsobil profesionálne a „víťazne“. Súčasťou bude aj priestor na otázky\, diskusiu a konkrétne tipy k vašim projektom. \nČo vás čaká: \n\nprehľad\, čo má obsahovať súťažný pitch deck (slajd po slajde)\nreálne skúsenosti z praxe a najčastejšie chyby\nQ&A\, diskusia a odporúčania k vašim projektom\n\nCieľ webinára: odísť s pitch deckom\, ktorý je stručný\, zrozumiteľný a presvedčivý. \nTermín a miesto: \n\nDátum: 17. 3. 2026\nČas: 15:30 – 17:30\nMiesto: cancel coworking (cancel.sk)\, Martin\nKapacita: limitovaná (20 miest)\nZáznam: bude k dispozícii\nRegistrácia: TU\n\nProjekt je spolufinancovaný Európskou úniou v Programe SLovensko. \n  \nViac o súťaži Inovácia žilinského kraja sa dočítate na našom BLOGU. \n 
URL:https://stara.inovia.sk/event/pitch-deck-ktory-presvedci-webinar/
LOCATION:[x] cancel coworking\, Divadelná 23\, Martin\, Slovakia (Slovak Republic)
ATTACH;FMTTYPE=image/jpeg:https://stara.inovia.sk/wp-content/uploads/2026/03/Pitch-Deck-ktory-presvedci.jpg
ORGANIZER;CN="Inova%C4%8Dn%C3%A9 centrum INOVIA":MAILTO:info@inovia.sk
END:VEVENT
END:VCALENDAR